BEGIN:VCALENDAR
VERSION:2.0
METHOD:PUBLISH
X-WR-CALNAME: Calendario | Facultad de Filosofía y Letras - UBA
PRODID:-//Drupal iCal API//EN
BEGIN:VEVENT
UID:calendar.844.changed.0.0
SUMMARY:Instituciones Educativas
DTSTAMP:20260420T183322Z
DTSTART:20260420Z
DTEND:20260420Z
1776699914
URL;VALUE=URI:https://museo.filo.uba.ar/instituciones-educativas-1
END:VEVENT
END:VCALENDAR
