BEGIN:VCALENDAR
VERSION:2.0
METHOD:PUBLISH
X-WR-CALNAME: Calendario | Facultad de Filosofía y Letras - UBA
PRODID:-//Drupal iCal API//EN
BEGIN:VEVENT
UID:calendar.2154.changed.0.0
SUMMARY:[Infancias] El secreto de las máscaras
DTSTAMP:20260419T175725Z
DTSTART:20260419Z
DTEND:20260419Z
1776612466
URL;VALUE=URI:https://museo.filo.uba.ar/novedades/infancias-el-secreto-de-las-m%C3%A1scaras
END:VEVENT
BEGIN:VEVENT
UID:calendar.2031.changed.0.1
SUMMARY:[Visita] Escrito en los hilos
DTSTAMP:20260419T175725Z
DTSTART:20260419Z
DTEND:20260419Z
1776612472
URL;VALUE=URI:https://museo.filo.uba.ar/novedades/visita-escrito-en-los-hilos
END:VEVENT
END:VCALENDAR
