BEGIN:VCALENDAR
VERSION:2.0
METHOD:PUBLISH
X-WR-CALNAME: Calendario | Facultad de Filosofía y Letras - UBA
PRODID:-//Drupal iCal API//EN
BEGIN:VEVENT
UID:calendar.2154.changed.0.0
SUMMARY:[Infancias] El secreto de las máscaras
DTSTAMP:20260419T225540Z
DTSTART:20260419Z
DTEND:20260419Z
1776612466
URL;VALUE=URI:https://museo.filo.uba.ar/novedades/infancias-el-secreto-de-las-m%C3%A1scaras
END:VEVENT
BEGIN:VEVENT
UID:calendar.2031.changed.0.1
SUMMARY:[Visita] Escrito en los hilos
DTSTAMP:20260419T225540Z
DTSTART:20260419Z
DTEND:20260419Z
1776612472
URL;VALUE=URI:https://museo.filo.uba.ar/novedades/visita-escrito-en-los-hilos
END:VEVENT
BEGIN:VEVENT
UID:calendar.2032.changed.0.2
SUMMARY:Apertura al público del Depósito Visitable de Colecciones Etnográficas
DTSTAMP:20260419T225540Z
DTSTART:20260420Z
DTEND:20260420Z
1776646761
URL;VALUE=URI:https://museo.filo.uba.ar/novedades/apertura-al-p%C3%BAblico-del-dep%C3%B3sito-visitable-de-colecciones-etnogr%C3%A1ficas-16
END:VEVENT
BEGIN:VEVENT
UID:calendar.2172.changed.0.3
SUMMARY:[Ciclo de cine indígena mexicano] El brillo de la luciérnaga\, de Augusto  \n Reyes
DTSTAMP:20260419T225540Z
DTSTART:20260420Z
DTEND:20260420Z
1776646766
URL;VALUE=URI:https://museo.filo.uba.ar/novedades/ciclo-de-cine-ind%C3%ADgena-mexicano-el-brillo-de-la-luci%C3%A9rnaga-de-augusto-reyes
END:VEVENT
BEGIN:VEVENT
UID:calendar.2171.changed.0.4
SUMMARY:[Ciclo de cine indígena mexicano] Bajudh\, de Carlos Matienzo Serment
DTSTAMP:20260419T225540Z
DTSTART:20260420Z
DTEND:20260420Z
1776646774
URL;VALUE=URI:https://museo.filo.uba.ar/novedades/ciclo-de-cine-ind%C3%ADgena-mexicano-bajudh-de-carlos-matienzo-serment
END:VEVENT
BEGIN:VEVENT
UID:calendar.2170.changed.0.5
SUMMARY:[Ciclo de cine indígena mexicano] Tepeyolotl\, corazón del cerro\, de Miguel  \n Angel García
DTSTAMP:20260419T225540Z
DTSTART:20260420Z
DTEND:20260420Z
1776646783
URL;VALUE=URI:https://museo.filo.uba.ar/novedades/ciclo-de-cine-ind%C3%ADgena-mexicano-tepeyolotl-coraz%C3%B3n-del-cerro-de-miguel-angel-garc%C3%ADa
END:VEVENT
END:VCALENDAR
