BEGIN:VCALENDAR
VERSION:2.0
METHOD:PUBLISH
X-WR-CALNAME: Calendario | Facultad de Filosofía y Letras - UBA
PRODID:-//Drupal iCal API//EN
BEGIN:VEVENT
UID:calendar.2004.changed.0.0
SUMMARY:Apertura al público del Depósito Visitable de Colecciones Etnográficas
DTSTAMP:20260423T230558Z
DTSTART:20260424Z
DTEND:20260424Z
1776996014
URL;VALUE=URI:https://museo.filo.uba.ar/novedades/apertura-al-p%C3%BAblico-del-dep%C3%B3sito-visitable-de-colecciones-etnogr%C3%A1ficas-13
END:VEVENT
END:VCALENDAR
