BEGIN:VCALENDAR
VERSION:2.0
METHOD:PUBLISH
X-WR-CALNAME: Calendario | Facultad de Filosofía y Letras - UBA
PRODID:-//Drupal iCal API//EN
BEGIN:VEVENT
UID:calendar.1956.changed.0.0
SUMMARY:[Online] Taller virtual de quipus
DTSTAMP:20260422T200456Z
DTSTART:20260422Z
DTEND:20260422Z
1776881779
URL;VALUE=URI:https://museo.filo.uba.ar/novedades/online-taller-virtual-de-quipus-0
END:VEVENT
BEGIN:VEVENT
UID:calendar.2161.changed.0.1
SUMMARY:[Ciclo hablemos en la Biblio]: Problemáticas de la cultura: Herramientas  \n para el aula y la transformación social con Ignacio Moñino
DTSTAMP:20260422T200456Z
DTSTART:20260422Z
DTEND:20260422Z
1776894606
URL;VALUE=URI:https://museo.filo.uba.ar/novedades/ciclo-hablemos-en-la-biblio-problem%C3%A1ticas-de-la-cultura-herramientas-para-el-aula-y-la-tra
END:VEVENT
END:VCALENDAR
